BEGIN:VCALENDAR
VERSION:2.0
PRODID:-//Crawford County Art Center - ECPv6.15.20//NONSGML v1.0//EN
CALSCALE:GREGORIAN
METHOD:PUBLISH
X-WR-CALNAME:Crawford County Art Center
X-ORIGINAL-URL:https://crawfordcountyartcenter.com
X-WR-CALDESC:Events for Crawford County Art Center
REFRESH-INTERVAL;VALUE=DURATION:PT1H
X-Robots-Tag:noindex
X-PUBLISHED-TTL:PT1H
BEGIN:VTIMEZONE
TZID:America/New_York
BEGIN:DAYLIGHT
TZOFFSETFROM:-0500
TZOFFSETTO:-0400
TZNAME:EDT
DTSTART:20240310T070000
END:DAYLIGHT
BEGIN:STANDARD
TZOFFSETFROM:-0400
TZOFFSETTO:-0500
TZNAME:EST
DTSTART:20241103T060000
END:STANDARD
BEGIN:DAYLIGHT
TZOFFSETFROM:-0500
TZOFFSETTO:-0400
TZNAME:EDT
DTSTART:20250309T070000
END:DAYLIGHT
BEGIN:STANDARD
TZOFFSETFROM:-0400
TZOFFSETTO:-0500
TZNAME:EST
DTSTART:20251102T060000
END:STANDARD
BEGIN:DAYLIGHT
TZOFFSETFROM:-0500
TZOFFSETTO:-0400
TZNAME:EDT
DTSTART:20260308T070000
END:DAYLIGHT
BEGIN:STANDARD
TZOFFSETFROM:-0400
TZOFFSETTO:-0500
TZNAME:EST
DTSTART:20261101T060000
END:STANDARD
END:VTIMEZONE
BEGIN:VEVENT
DTSTART;TZID=America/New_York:20250115T180000
DTEND;TZID=America/New_York:20250115T200000
DTSTAMP:20260419T102058
CREATED:20250109T141833Z
LAST-MODIFIED:20250115T233943Z
UID:15075-1736964000-1736971200@crawfordcountyartcenter.com
SUMMARY:Members-Only Preview Reception
DESCRIPTION:Join us for an exclusive preview of our new location at 117 N Sandusky Ave! This is a chance for us to say “thank you!” to YOU\, our members\, donors\, and sponsors. Light refreshments will be provided. Not a member but wish to attend? You can purchase your membership at this link or at the event with cash or card! Your support is deeply appreciated. https://www.zeffy.com/ticketing/c3c455fd-4e95-4a40-9382-a9c3885561f8
URL:https://crawfordcountyartcenter.com/event/members-only-preview-reception/
LOCATION:117 N Sandusky Ave\, Bucyrus\, OH 44820-2218\, United States
CATEGORIES:Classes
ATTACH;FMTTYPE=image/jpeg:https://crawfordcountyartcenter.com/wp-content/uploads/2025/01/15075_image_469287097_968373748661677_345507620593221388_n.jpg
ORGANIZER;CN="Crawford County Arts Center":MAILTO:crawfordcountyarts@gmail.com
END:VEVENT
END:VCALENDAR