BEGIN:VCALENDAR
VERSION:2.0
PRODID:-//Crawford County Art Center - ECPv6.15.20//NONSGML v1.0//EN
CALSCALE:GREGORIAN
METHOD:PUBLISH
X-ORIGINAL-URL:https://crawfordcountyartcenter.com
X-WR-CALDESC:Events for Crawford County Art Center
REFRESH-INTERVAL;VALUE=DURATION:PT1H
X-Robots-Tag:noindex
X-PUBLISHED-TTL:PT1H
BEGIN:VTIMEZONE
TZID:America/New_York
BEGIN:DAYLIGHT
TZOFFSETFROM:-0500
TZOFFSETTO:-0400
TZNAME:EDT
DTSTART:20240310T070000
END:DAYLIGHT
BEGIN:STANDARD
TZOFFSETFROM:-0400
TZOFFSETTO:-0500
TZNAME:EST
DTSTART:20241103T060000
END:STANDARD
BEGIN:DAYLIGHT
TZOFFSETFROM:-0500
TZOFFSETTO:-0400
TZNAME:EDT
DTSTART:20250309T070000
END:DAYLIGHT
BEGIN:STANDARD
TZOFFSETFROM:-0400
TZOFFSETTO:-0500
TZNAME:EST
DTSTART:20251102T060000
END:STANDARD
BEGIN:DAYLIGHT
TZOFFSETFROM:-0500
TZOFFSETTO:-0400
TZNAME:EDT
DTSTART:20260308T070000
END:DAYLIGHT
BEGIN:STANDARD
TZOFFSETFROM:-0400
TZOFFSETTO:-0500
TZNAME:EST
DTSTART:20261101T060000
END:STANDARD
END:VTIMEZONE
BEGIN:VEVENT
DTSTART;TZID=America/New_York:20250122T180000
DTEND;TZID=America/New_York:20250122T200000
DTSTAMP:20260419T102137
CREATED:20250109T141841Z
LAST-MODIFIED:20250122T235644Z
UID:15082-1737568800-1737576000@crawfordcountyartcenter.com
SUMMARY:Beginner Crochet Hat Class
DESCRIPTION:Seats are limited\, reserve your ticket here! https://www.zeffy.com/en-US/ticketing/beginner-crochet-hat \nLearn from Instructor Alena Fox how to crochet a hat to keep warm or give as a gift this winter! This is a beginner-friendly project. \nYou are welcome to bring food and beverage to enjoy during the class. This class is flexibly recommended for ages 12+. If you have any accommodation needs please let us know so we can set you up for success!
URL:https://crawfordcountyartcenter.com/event/beginner-crochet-hat/
LOCATION:1810 East Mansfield St.\, Bucyrus\, OH\, United States\, Ohio 44820
CATEGORIES:Classes
ATTACH;FMTTYPE=image/jpeg:https://crawfordcountyartcenter.com/wp-content/uploads/2025/01/15082_image_473189795_995892435909808_6121852441117655676_n.jpg
END:VEVENT
END:VCALENDAR