BEGIN:VCALENDAR
VERSION:2.0
PRODID:-//Crawford County Art Center - ECPv6.15.20//NONSGML v1.0//EN
CALSCALE:GREGORIAN
METHOD:PUBLISH
X-WR-CALNAME:Crawford County Art Center
X-ORIGINAL-URL:https://crawfordcountyartcenter.com
X-WR-CALDESC:Events for Crawford County Art Center
REFRESH-INTERVAL;VALUE=DURATION:PT1H
X-Robots-Tag:noindex
X-PUBLISHED-TTL:PT1H
BEGIN:VTIMEZONE
TZID:America/New_York
BEGIN:DAYLIGHT
TZOFFSETFROM:-0500
TZOFFSETTO:-0400
TZNAME:EDT
DTSTART:20240310T070000
END:DAYLIGHT
BEGIN:STANDARD
TZOFFSETFROM:-0400
TZOFFSETTO:-0500
TZNAME:EST
DTSTART:20241103T060000
END:STANDARD
BEGIN:DAYLIGHT
TZOFFSETFROM:-0500
TZOFFSETTO:-0400
TZNAME:EDT
DTSTART:20250309T070000
END:DAYLIGHT
BEGIN:STANDARD
TZOFFSETFROM:-0400
TZOFFSETTO:-0500
TZNAME:EST
DTSTART:20251102T060000
END:STANDARD
BEGIN:DAYLIGHT
TZOFFSETFROM:-0500
TZOFFSETTO:-0400
TZNAME:EDT
DTSTART:20260308T070000
END:DAYLIGHT
BEGIN:STANDARD
TZOFFSETFROM:-0400
TZOFFSETTO:-0500
TZNAME:EST
DTSTART:20261101T060000
END:STANDARD
END:VTIMEZONE
BEGIN:VEVENT
DTSTART;TZID=America/New_York:20250129T180000
DTEND;TZID=America/New_York:20250129T200000
DTSTAMP:20260419T084321
CREATED:20250109T141844Z
LAST-MODIFIED:20250130T011233Z
UID:15084-1738173600-1738180800@crawfordcountyartcenter.com
SUMMARY:Lunar Painting Class
DESCRIPTION:Reserve your ticket here! https://www.zeffy.com/en-US/ticketing/lunar-painting\nCelebrate the Lunar New Year with instructor Taylor Smith! Join us for a mindful and therapeutic painting session focused on manifesting self-growth and clear thinking\, both of which are predicted by the 2025 Chinese New Year – the Year of the Wood Snake. \nYou are welcome to bring food and beverage to enjoy during the class. This class is for all ages. If you have any accommodation needs please let us know so we can set you up for success!
URL:https://crawfordcountyartcenter.com/event/lunar-painting/
LOCATION:117 N Sandusky Ave\, Bucyrus\, OH 44820-2218\, United States
CATEGORIES:Classes
ATTACH;FMTTYPE=image/jpeg:https://crawfordcountyartcenter.com/wp-content/uploads/2025/01/15084_image_470693489_979170984248620_7942464051633597788_n.jpg
END:VEVENT
END:VCALENDAR