BEGIN:VCALENDAR
VERSION:2.0
PRODID:-//Crawford County Art Center - ECPv6.15.20//NONSGML v1.0//EN
CALSCALE:GREGORIAN
METHOD:PUBLISH
X-WR-CALNAME:Crawford County Art Center
X-ORIGINAL-URL:https://crawfordcountyartcenter.com
X-WR-CALDESC:Events for Crawford County Art Center
REFRESH-INTERVAL;VALUE=DURATION:PT1H
X-Robots-Tag:noindex
X-PUBLISHED-TTL:PT1H
BEGIN:VTIMEZONE
TZID:America/New_York
BEGIN:DAYLIGHT
TZOFFSETFROM:-0500
TZOFFSETTO:-0400
TZNAME:EDT
DTSTART:20240310T070000
END:DAYLIGHT
BEGIN:STANDARD
TZOFFSETFROM:-0400
TZOFFSETTO:-0500
TZNAME:EST
DTSTART:20241103T060000
END:STANDARD
BEGIN:DAYLIGHT
TZOFFSETFROM:-0500
TZOFFSETTO:-0400
TZNAME:EDT
DTSTART:20250309T070000
END:DAYLIGHT
BEGIN:STANDARD
TZOFFSETFROM:-0400
TZOFFSETTO:-0500
TZNAME:EST
DTSTART:20251102T060000
END:STANDARD
BEGIN:DAYLIGHT
TZOFFSETFROM:-0500
TZOFFSETTO:-0400
TZNAME:EDT
DTSTART:20260308T070000
END:DAYLIGHT
BEGIN:STANDARD
TZOFFSETFROM:-0400
TZOFFSETTO:-0500
TZNAME:EST
DTSTART:20261101T060000
END:STANDARD
END:VTIMEZONE
BEGIN:VEVENT
DTSTART;TZID=America/New_York:20250205T180000
DTEND;TZID=America/New_York:20250205T200000
DTSTAMP:20260419T084344
CREATED:20250123T230641Z
LAST-MODIFIED:20250206T005837Z
UID:15280-1738778400-1738785600@crawfordcountyartcenter.com
SUMMARY:Pillowcase Sewing and Painting Class
DESCRIPTION:Register for tickets here! https://www.zeffy.com/ticketing/pillowcase-sewing-and-painting Learn beginner sewing with instructor Pura Brause to create an envelope pillowcase with a painted design! This class will be a great introduction to sewing for beginners. In addition\, you will be able to choose between templates for a sunflower or cat design\, or you may create your own\, to paint with fabric paint to add a special touch. Tickets include all supplies including an insert to complete your pillow. \nWe have a limited number of sewing machines available to work on\, on a first-come\, first-serve basis indicated when you purchase your ticket. If you have your own sewing machine please bring it with you to the class. \nYou are welcome to bring food and beverage to enjoy during the class. This class is flexibly recommended for ages 12+ with parent permission. If you have any accommodation needs please let us know so we can set you up for success!
URL:https://crawfordcountyartcenter.com/event/pillowcase-sewing-and-painting-class/
LOCATION:Crawford County Art Center\, 117 N Sandusky Ave\, Bucyrus\, OH\, 44820\, US
CATEGORIES:Classes
ATTACH;FMTTYPE=image/jpeg:https://crawfordcountyartcenter.com/wp-content/uploads/2025/01/15280_image_473367650_995908985908153_8165541968745208973_n.jpg
END:VEVENT
END:VCALENDAR