BEGIN:VCALENDAR
VERSION:2.0
PRODID:-//Crawford County Art Center - ECPv6.15.20//NONSGML v1.0//EN
CALSCALE:GREGORIAN
METHOD:PUBLISH
X-WR-CALNAME:Crawford County Art Center
X-ORIGINAL-URL:https://crawfordcountyartcenter.com
X-WR-CALDESC:Events for Crawford County Art Center
REFRESH-INTERVAL;VALUE=DURATION:PT1H
X-Robots-Tag:noindex
X-PUBLISHED-TTL:PT1H
BEGIN:VTIMEZONE
TZID:America/New_York
BEGIN:DAYLIGHT
TZOFFSETFROM:-0500
TZOFFSETTO:-0400
TZNAME:EDT
DTSTART:20240310T070000
END:DAYLIGHT
BEGIN:STANDARD
TZOFFSETFROM:-0400
TZOFFSETTO:-0500
TZNAME:EST
DTSTART:20241103T060000
END:STANDARD
BEGIN:DAYLIGHT
TZOFFSETFROM:-0500
TZOFFSETTO:-0400
TZNAME:EDT
DTSTART:20250309T070000
END:DAYLIGHT
BEGIN:STANDARD
TZOFFSETFROM:-0400
TZOFFSETTO:-0500
TZNAME:EST
DTSTART:20251102T060000
END:STANDARD
BEGIN:DAYLIGHT
TZOFFSETFROM:-0500
TZOFFSETTO:-0400
TZNAME:EDT
DTSTART:20260308T070000
END:DAYLIGHT
BEGIN:STANDARD
TZOFFSETFROM:-0400
TZOFFSETTO:-0500
TZNAME:EST
DTSTART:20261101T060000
END:STANDARD
END:VTIMEZONE
BEGIN:VEVENT
DTSTART;TZID=America/New_York:20250208T100000
DTEND;TZID=America/New_York:20250208T140000
DTSTAMP:20260419T084321
CREATED:20250123T230629Z
LAST-MODIFIED:20250208T185727Z
UID:15936-1739008800-1739023200@crawfordcountyartcenter.com
SUMMARY:Second Saturday Free Class: Colors as Emotions
DESCRIPTION:Here’s a chance to express how you are feeling through the tactile method of painting! Colors can represent our emotions\, and connecting them to the canvas can help us make sense of what we are feeling. Allow what you are feeling in the moment to become an individual art piece which can be reflected on and give clarity when needed.
URL:https://crawfordcountyartcenter.com/event/second-saturday-free-class-colors-as-emotions/
LOCATION:117 N Sandusky Ave\, Bucyrus\, OH\, United States\, Ohio 44820
CATEGORIES:Classes
ATTACH;FMTTYPE=image/jpeg:https://crawfordcountyartcenter.com/wp-content/uploads/2025/01/15936_image_474535989_1001664111999307_8845292395650129561_n.jpg
END:VEVENT
END:VCALENDAR