BEGIN:VCALENDAR
VERSION:2.0
PRODID:-//Crawford County Art Center - ECPv6.15.20//NONSGML v1.0//EN
CALSCALE:GREGORIAN
METHOD:PUBLISH
X-WR-CALNAME:Crawford County Art Center
X-ORIGINAL-URL:https://crawfordcountyartcenter.com
X-WR-CALDESC:Events for Crawford County Art Center
REFRESH-INTERVAL;VALUE=DURATION:PT1H
X-Robots-Tag:noindex
X-PUBLISHED-TTL:PT1H
BEGIN:VTIMEZONE
TZID:America/New_York
BEGIN:DAYLIGHT
TZOFFSETFROM:-0500
TZOFFSETTO:-0400
TZNAME:EDT
DTSTART:20240310T070000
END:DAYLIGHT
BEGIN:STANDARD
TZOFFSETFROM:-0400
TZOFFSETTO:-0500
TZNAME:EST
DTSTART:20241103T060000
END:STANDARD
BEGIN:DAYLIGHT
TZOFFSETFROM:-0500
TZOFFSETTO:-0400
TZNAME:EDT
DTSTART:20250309T070000
END:DAYLIGHT
BEGIN:STANDARD
TZOFFSETFROM:-0400
TZOFFSETTO:-0500
TZNAME:EST
DTSTART:20251102T060000
END:STANDARD
BEGIN:DAYLIGHT
TZOFFSETFROM:-0500
TZOFFSETTO:-0400
TZNAME:EDT
DTSTART:20260308T070000
END:DAYLIGHT
BEGIN:STANDARD
TZOFFSETFROM:-0400
TZOFFSETTO:-0500
TZNAME:EST
DTSTART:20261101T060000
END:STANDARD
END:VTIMEZONE
BEGIN:VEVENT
DTSTART;TZID=America/New_York:20250222T180000
DTEND;TZID=America/New_York:20250222T200000
DTSTAMP:20260419T090527
CREATED:20250123T230545Z
LAST-MODIFIED:20250222T120917Z
UID:15586-1740247200-1740254400@crawfordcountyartcenter.com
SUMMARY:Acrylic Paint Pouring Class
DESCRIPTION:Register for tickets here! https://www.zeffy.com/ticketing/acrylic-paint-pouring \nJoin instructor Julie Wilcox (Stuff by Money) for a class on her signature style of acrylic paint pour art on canvas! \nYou are welcome to bring food and beverage to enjoy during the class. This class is for all ages. If you have any accommodation needs please let us know so we can set you up for success!
URL:https://crawfordcountyartcenter.com/event/acrylic-paint-pouring-class/
LOCATION:117 N Sandusky Ave\, Bucyrus\, OH\, United States\, Ohio 44820
CATEGORIES:Classes,Paid Event
ATTACH;FMTTYPE=image/jpeg:https://crawfordcountyartcenter.com/wp-content/uploads/2025/01/15586_image_473825575_999407898891595_1102087440910764687_n.jpg
END:VEVENT
END:VCALENDAR