BEGIN:VCALENDAR
VERSION:2.0
PRODID:-//Crawford County Art Center - ECPv6.15.20//NONSGML v1.0//EN
CALSCALE:GREGORIAN
METHOD:PUBLISH
X-WR-CALNAME:Crawford County Art Center
X-ORIGINAL-URL:https://crawfordcountyartcenter.com
X-WR-CALDESC:Events for Crawford County Art Center
REFRESH-INTERVAL;VALUE=DURATION:PT1H
X-Robots-Tag:noindex
X-PUBLISHED-TTL:PT1H
BEGIN:VTIMEZONE
TZID:America/New_York
BEGIN:DAYLIGHT
TZOFFSETFROM:-0500
TZOFFSETTO:-0400
TZNAME:EDT
DTSTART:20240310T070000
END:DAYLIGHT
BEGIN:STANDARD
TZOFFSETFROM:-0400
TZOFFSETTO:-0500
TZNAME:EST
DTSTART:20241103T060000
END:STANDARD
BEGIN:DAYLIGHT
TZOFFSETFROM:-0500
TZOFFSETTO:-0400
TZNAME:EDT
DTSTART:20250309T070000
END:DAYLIGHT
BEGIN:STANDARD
TZOFFSETFROM:-0400
TZOFFSETTO:-0500
TZNAME:EST
DTSTART:20251102T060000
END:STANDARD
BEGIN:DAYLIGHT
TZOFFSETFROM:-0500
TZOFFSETTO:-0400
TZNAME:EDT
DTSTART:20260308T070000
END:DAYLIGHT
BEGIN:STANDARD
TZOFFSETFROM:-0400
TZOFFSETTO:-0500
TZNAME:EST
DTSTART:20261101T060000
END:STANDARD
END:VTIMEZONE
BEGIN:VEVENT
DTSTART;TZID=America/New_York:20250222T180000
DTEND;TZID=America/New_York:20250222T200000
DTSTAMP:20260419T120244
CREATED:20250123T230545Z
LAST-MODIFIED:20250222T120917Z
UID:15586-1740247200-1740254400@crawfordcountyartcenter.com
SUMMARY:Acrylic Paint Pouring Class
DESCRIPTION:Register for tickets here! https://www.zeffy.com/ticketing/acrylic-paint-pouring \nJoin instructor Julie Wilcox (Stuff by Money) for a class on her signature style of acrylic paint pour art on canvas! \nYou are welcome to bring food and beverage to enjoy during the class. This class is for all ages. If you have any accommodation needs please let us know so we can set you up for success!
URL:https://crawfordcountyartcenter.com/event/acrylic-paint-pouring-class/
LOCATION:117 N Sandusky Ave\, Bucyrus\, OH\, United States\, Ohio 44820
CATEGORIES:Classes,Paid Event
ATTACH;FMTTYPE=image/jpeg:https://crawfordcountyartcenter.com/wp-content/uploads/2025/01/15586_image_473825575_999407898891595_1102087440910764687_n.jpg
END:VEVENT
BEGIN:VEVENT
DTSTART;TZID=America/New_York:20250215T180000
DTEND;TZID=America/New_York:20250215T200000
DTSTAMP:20260419T120244
CREATED:20250123T230600Z
LAST-MODIFIED:20250215T201923Z
UID:15932-1739642400-1739649600@crawfordcountyartcenter.com
SUMMARY:Paint Your Partner Valentine's Day Event
DESCRIPTION:Register for tickets here https://www.zeffy.com/en-US/ticketing/paint-your-partner-3\nThis Valentine’s Day have some fun together and Paint Your Partner! You don’t need to be a professional for this lighthearted class – just bring your significant other\, gal pal\, best bud\, or whoever you choose and a good sense of humor! Instructor Sharon will lead this event as you both do your best to paint a portrait of each other. \nLight refreshments will be provided. You are welcome to bring food and beverage to enjoy during the class. This date night-style class is for adults. If you have any accommodation needs please let us know so we can set you up for success!
URL:https://crawfordcountyartcenter.com/event/paint-your-partner-valentines-day-event/
LOCATION:117 N Sandusky Ave\, Bucyrus\, OH\, United States\, Ohio 44820
CATEGORIES:Classes,Paid Event
ATTACH;FMTTYPE=image/jpeg:https://crawfordcountyartcenter.com/wp-content/uploads/2025/01/15932_image_474622384_1001680745330977_8697636707164030028_n.jpg
END:VEVENT
BEGIN:VEVENT
DTSTART;TZID=America/New_York:20250213T180000
DTEND;TZID=America/New_York:20250213T200000
DTSTAMP:20260419T120244
CREATED:20250123T230606Z
LAST-MODIFIED:20250214T010209Z
UID:15965-1739469600-1739476800@crawfordcountyartcenter.com
SUMMARY:Linocut Print Makeup Bag Galentine's Day Class
DESCRIPTION:Register for tickets here https://www.zeffy.com/en-US/ticketing/linocut-print-makeup-bag\nCelebrate “Galentine’s Day” and join instructor Kaylee to create a customized makeup bag (art supply pouch\, carrying case\, or other canvas zipper bag use!). We will be using linocut tools and materials to create a singular design or repeatable stamp. A selection of templates will be available\, you may freehand sketch\, or purchase your ticket and send your design of choice to info@crawfordcountyartcenter.com BEFORE MONDAY 2/10 at 6pm so that our instructor can work with you on creating a template. Bonus! After the class your lino design can be used again for other prints. \nYou are welcome to bring food and beverage to enjoy during the class. This class is flexibly recommended for ages 12+ with parent permission as sharp tools will be used. If you have any accommodation needs please let us know so we can set you up for success!
URL:https://crawfordcountyartcenter.com/event/linocut-print-makeup-bag-galentines-day-class/
LOCATION:117 N Sandusky Ave\, Bucyrus\, OH\, United States\, Ohio 44820
CATEGORIES:Classes,Paid Event
ATTACH;FMTTYPE=image/jpeg:https://crawfordcountyartcenter.com/wp-content/uploads/2025/01/15965_image_474625149_1003555948476790_723230947858361274_n.jpg
END:VEVENT
END:VCALENDAR