BEGIN:VCALENDAR
VERSION:2.0
PRODID:-//Crawford County Art Center - ECPv6.15.20//NONSGML v1.0//EN
CALSCALE:GREGORIAN
METHOD:PUBLISH
X-WR-CALNAME:Crawford County Art Center
X-ORIGINAL-URL:https://crawfordcountyartcenter.com
X-WR-CALDESC:Events for Crawford County Art Center
REFRESH-INTERVAL;VALUE=DURATION:PT1H
X-Robots-Tag:noindex
X-PUBLISHED-TTL:PT1H
BEGIN:VTIMEZONE
TZID:America/Kentucky/Louisville
BEGIN:DAYLIGHT
TZOFFSETFROM:-0500
TZOFFSETTO:-0400
TZNAME:EDT
DTSTART:20250309T070000
END:DAYLIGHT
BEGIN:STANDARD
TZOFFSETFROM:-0400
TZOFFSETTO:-0500
TZNAME:EST
DTSTART:20251102T060000
END:STANDARD
BEGIN:DAYLIGHT
TZOFFSETFROM:-0500
TZOFFSETTO:-0400
TZNAME:EDT
DTSTART:20260308T070000
END:DAYLIGHT
BEGIN:STANDARD
TZOFFSETFROM:-0400
TZOFFSETTO:-0500
TZNAME:EST
DTSTART:20261101T060000
END:STANDARD
BEGIN:DAYLIGHT
TZOFFSETFROM:-0500
TZOFFSETTO:-0400
TZNAME:EDT
DTSTART:20270314T070000
END:DAYLIGHT
BEGIN:STANDARD
TZOFFSETFROM:-0400
TZOFFSETTO:-0500
TZNAME:EST
DTSTART:20271107T060000
END:STANDARD
END:VTIMEZONE
BEGIN:VEVENT
DTSTART;TZID=America/Kentucky/Louisville:20260607T140000
DTEND;TZID=America/Kentucky/Louisville:20260607T180000
DTSTAMP:20260419T201929
CREATED:20260419T230413Z
LAST-MODIFIED:20260419T230413Z
UID:38472-1780840800-1780855200@crawfordcountyartcenter.com
SUMMARY:Creation Station - Denim Hat Decorating
DESCRIPTION:Use puffy paint and other decorations to create your very own one of a kind denim hat for summer! 🌞Creation Station free drop-in art classes are for all ages and abilities. You are welcome to bring food and beverages to enjoy. This series of classes is generously funded by the United Way of North Central Ohio.
URL:https://crawfordcountyartcenter.com/event/creation-station-denim-hat-decorating/
LOCATION:117 N Sandusky Ave\, Bucyrus\, OH
CATEGORIES:Classes
ATTACH;FMTTYPE=image/jpeg:https://crawfordcountyartcenter.com/wp-content/uploads/2026/04/38472_image_677802240_1364877595677955_8987694511298940578_n.jpg
END:VEVENT
BEGIN:VEVENT
DTSTART;TZID=America/Kentucky/Louisville:20260613T120000
DTEND;TZID=America/Kentucky/Louisville:20260613T160000
DTSTAMP:20260419T201929
CREATED:20260419T230415Z
LAST-MODIFIED:20260419T230415Z
UID:38474-1781352000-1781366400@crawfordcountyartcenter.com
SUMMARY:Second Saturday - Bug Hotels
DESCRIPTION:Bugs are important to the environment! From pollinating to digging through soil to feeding the birds\, we need bugs to survive! Let’s create a little bug “hotel” for a safe place for bugs to congregate in the yard. Here you will be able to observe what kinds of bugs you have in your yard and be able to see their behaviors and life cycles. Second Saturday free drop-in art classes are for all ages and abilities. You are welcome to bring food and beverages to enjoy. This series of classes is generously funded by the United Way of North Central Ohio.
URL:https://crawfordcountyartcenter.com/event/second-saturday-bug-hotels/
LOCATION:117 N Sandusky Ave\, Bucyrus\, OH
CATEGORIES:Classes
ATTACH;FMTTYPE=image/jpeg:https://crawfordcountyartcenter.com/wp-content/uploads/2026/04/38474_image_672688949_1364882979010750_6975176730095024233_n.jpg
END:VEVENT
BEGIN:VEVENT
DTSTART;TZID=America/Kentucky/Louisville:20260614T140000
DTEND;TZID=America/Kentucky/Louisville:20260614T180000
DTSTAMP:20260419T201929
CREATED:20260419T230418Z
LAST-MODIFIED:20260419T230418Z
UID:38476-1781445600-1781460000@crawfordcountyartcenter.com
SUMMARY:Creation Station - Bubble Painting
DESCRIPTION:Use paint and bubbles to create super cool paintings!* Because of the nature of this class using bubbles and paint together\, this is NOT recommended for children that are too young to understand not to drink the paint mixture\, please be cautious for littles!Creation Station free drop-in art classes are for all ages and abilities. You are welcome to bring food and beverages to enjoy. This series of classes is generously funded by the United Way of North Central Ohio.
URL:https://crawfordcountyartcenter.com/event/creation-station-bubble-painting/
LOCATION:117 N Sandusky Ave\, Bucyrus\, OH
CATEGORIES:Classes
ATTACH;FMTTYPE=image/jpeg:https://crawfordcountyartcenter.com/wp-content/uploads/2026/04/38476_image_674156382_1364879595677755_6682343344960628627_n.jpg
END:VEVENT
BEGIN:VEVENT
DTSTART;TZID=America/Kentucky/Louisville:20260617T130000
DTEND;TZID=America/Kentucky/Louisville:20260617T150000
DTSTAMP:20260419T201929
CREATED:20260419T230420Z
LAST-MODIFIED:20260419T230420Z
UID:38478-1781701200-1781708400@crawfordcountyartcenter.com
SUMMARY:Junk Journaling
DESCRIPTION:Join in the CLUB! Whether you are a seasoned scrapbook/junk journaler or brand new\, artists Rebecca and Victor invite you to come on in and try it out. All supplies are provided\, but we recommend you bring items of your own from home as well!Junk Journaling is creating a spread of things new and old\, typically taking “junk” items and creating art out of them instead of tossing them in the landfill.This class is recommended ages 12+ but not required\, and is free for all! We encourage donations to keep the lights on.
URL:https://crawfordcountyartcenter.com/event/junk-journaling-8/
LOCATION:117 N Sandusky Ave\, Bucyrus\, OH
CATEGORIES:Classes
ATTACH;FMTTYPE=image/jpeg:https://crawfordcountyartcenter.com/wp-content/uploads/2026/04/38478_image_677934300_1364891272343254_3128900585993355730_n.jpg
END:VEVENT
BEGIN:VEVENT
DTSTART;TZID=America/Kentucky/Louisville:20260619T180000
DTEND;TZID=America/Kentucky/Louisville:20260619T200000
DTSTAMP:20260419T201929
CREATED:20260419T230423Z
LAST-MODIFIED:20260419T230423Z
UID:38480-1781892000-1781899200@crawfordcountyartcenter.com
SUMMARY:Memorial Making Grief Class
DESCRIPTION:Everyone has lost someone dear to them. Whether it was recent or years ago\, a pet\, a sibling\, or someone you once knew\, come in to the Art Center for a safe space to grieve. This monthly class will focus on healing\, on not letting go of the grief but celebrating the life that they had and the impact they made on the lives around them.This month’s class is Magazine Collages\, creating either a memory that you had with your loved one\, or even trying to make their face out of magazine clippings. A beautiful way to remember them ❤️This class is for all ages and abilities\, and is free to attend. Donations are appreciated.
URL:https://crawfordcountyartcenter.com/event/memorial-making-grief-class-3/
LOCATION:117 N Sandusky Ave\, Bucyrus\, OH
CATEGORIES:Classes
ATTACH;FMTTYPE=image/jpeg:https://crawfordcountyartcenter.com/wp-content/uploads/2026/04/38480_image_677879121_1364899245675790_4869523035536730725_n.jpg
END:VEVENT
BEGIN:VEVENT
DTSTART;TZID=America/Kentucky/Louisville:20260621T140000
DTEND;TZID=America/Kentucky/Louisville:20260621T180000
DTSTAMP:20260419T201929
CREATED:20260419T230425Z
LAST-MODIFIED:20260419T230425Z
UID:38482-1782050400-1782064800@crawfordcountyartcenter.com
SUMMARY:Creation Station - Rock Painting
DESCRIPTION:Paint whatever you’d like on ROCKS! Mandelas\, bugs\, fruit\, pictures\, anything that you can think of! 😁Creation Station free drop-in art classes are for all ages and abilities. You are welcome to bring food and beverages to enjoy. This series of classes is generously funded by the United Way of North Central Ohio.
URL:https://crawfordcountyartcenter.com/event/creation-station-rock-painting/
LOCATION:117 N Sandusky Ave\, Bucyrus\, OH
CATEGORIES:Classes
ATTACH;FMTTYPE=image/jpeg:https://crawfordcountyartcenter.com/wp-content/uploads/2026/04/38482_image_677798806_1364893389009709_5274167102572385532_n.jpg
END:VEVENT
BEGIN:VEVENT
DTSTART;TZID=America/Kentucky/Louisville:20260624T130000
DTEND;TZID=America/Kentucky/Louisville:20260624T150000
DTSTAMP:20260419T201929
CREATED:20260419T230427Z
LAST-MODIFIED:20260419T230427Z
UID:38484-1782306000-1782313200@crawfordcountyartcenter.com
SUMMARY:Watercolor Painting
DESCRIPTION:Join us for a Free Watercolor Painting class the last Wednesday of each month from 1-3 pm! This class is hosted by Barb Hughey. No registration required\, and ages 12+ are recommended. Donations are appreciated.
URL:https://crawfordcountyartcenter.com/event/watercolor-painting-4/
LOCATION:117 N Sandusky Ave\, Bucyrus\, OH
CATEGORIES:Classes
ATTACH;FMTTYPE=image/jpeg:https://crawfordcountyartcenter.com/wp-content/uploads/2026/04/38484_image_674233864_1364900935675621_4323709246927994442_n.jpg
END:VEVENT
BEGIN:VEVENT
DTSTART;TZID=America/Kentucky/Louisville:20260628T140000
DTEND;TZID=America/Kentucky/Louisville:20260628T180000
DTSTAMP:20260419T201929
CREATED:20260419T230430Z
LAST-MODIFIED:20260419T230430Z
UID:38486-1782655200-1782669600@crawfordcountyartcenter.com
SUMMARY:Creation Station - Beaded Wind Chimes
DESCRIPTION:Use beads\, flowers\, and sticks to create gorgeous wind chimes to hang outside.Creation Station free drop-in art classes are for all ages and abilities. You are welcome to bring food and beverages to enjoy. This series of classes is generously funded by the United Way of North Central Ohio.
URL:https://crawfordcountyartcenter.com/event/creation-station-beaded-wind-chimes/
LOCATION:117 N Sandusky Ave\, Bucyrus\, OH
CATEGORIES:Classes
ATTACH;FMTTYPE=image/jpeg:https://crawfordcountyartcenter.com/wp-content/uploads/2026/04/38486_image_674162335_1364893572343024_3046063607002012495_n.jpg
END:VEVENT
BEGIN:VEVENT
DTSTART;TZID=America/Kentucky/Louisville:20260701T130000
DTEND;TZID=America/Kentucky/Louisville:20260701T150000
DTSTAMP:20260419T201929
CREATED:20260419T230432Z
LAST-MODIFIED:20260419T230432Z
UID:38488-1782910800-1782918000@crawfordcountyartcenter.com
SUMMARY:Junk Journaling
DESCRIPTION:Join in the CLUB! Whether you are a seasoned scrapbook/junk journaler or brand new\, artists Rebecca and Victor invite you to come on in and try it out. All supplies are provided\, but we recommend you bring items of your own from home as well!Junk Journaling is creating a spread of things new and old\, typically taking “junk” items and creating art out of them instead of tossing them in the landfill.This class is recommended ages 12+ but not required\, and is free for all! We encourage donations to keep the lights on.
URL:https://crawfordcountyartcenter.com/event/junk-journaling-9/
LOCATION:117 N Sandusky Ave\, Bucyrus\, OH
CATEGORIES:Classes
ATTACH;FMTTYPE=image/jpeg:https://crawfordcountyartcenter.com/wp-content/uploads/2026/04/38488_image_673358109_1364901015675613_3038608977520533444_n.jpg
END:VEVENT
BEGIN:VEVENT
DTSTART;TZID=America/Kentucky/Louisville:20260705T140000
DTEND;TZID=America/Kentucky/Louisville:20260705T180000
DTSTAMP:20260419T201929
CREATED:20260419T230434Z
LAST-MODIFIED:20260419T230434Z
UID:38490-1783260000-1783274400@crawfordcountyartcenter.com
SUMMARY:Creation Station - 4th of July Plane Painting
DESCRIPTION:Paint a beautiful blue sky with three planes\, each with a red\, white\, and blue trail to celebrate America’s “birthday”!Creation Station free drop-in art classes are for all ages and abilities. You are welcome to bring food and beverages to enjoy. This series of classes is generously funded by the United Way of North Central Ohio.
URL:https://crawfordcountyartcenter.com/event/creation-station-4th-of-july-plane-painting/
LOCATION:117 N Sandusky Ave\, Bucyrus\, OH
CATEGORIES:Classes
ATTACH;FMTTYPE=image/jpeg:https://crawfordcountyartcenter.com/wp-content/uploads/2026/04/38490_image_677798850_1364884462343935_2762312607837110386_n.jpg
END:VEVENT
BEGIN:VEVENT
DTSTART;TZID=America/Kentucky/Louisville:20260711T120000
DTEND;TZID=America/Kentucky/Louisville:20260711T160000
DTSTAMP:20260419T201929
CREATED:20260419T230437Z
LAST-MODIFIED:20260419T230437Z
UID:38492-1783771200-1783785600@crawfordcountyartcenter.com
SUMMARY:Second Saturday - TBA
DESCRIPTION:[CS Instructor Rebecca Adler will be absent for this class\, so this will be updated as soon as another artist picks it up! 🙂 See you then!]Second Saturday free drop-in art classes are for all ages and abilities. You are welcome to bring food and beverages to enjoy. This series of classes is generously funded by the United Way of North Central Ohio.
URL:https://crawfordcountyartcenter.com/event/second-saturday-tba/
LOCATION:117 N Sandusky Ave\, Bucyrus\, OH
CATEGORIES:Classes
ATTACH;FMTTYPE=image/jpeg:https://crawfordcountyartcenter.com/wp-content/uploads/2026/04/38492_image_672690289_1364885862343795_5870407258464966857_n.jpg
END:VEVENT
BEGIN:VEVENT
DTSTART;TZID=America/Kentucky/Louisville:20260712T140000
DTEND;TZID=America/Kentucky/Louisville:20260712T180000
DTSTAMP:20260419T201929
CREATED:20260419T230439Z
LAST-MODIFIED:20260419T230439Z
UID:38494-1783864800-1783879200@crawfordcountyartcenter.com
SUMMARY:Creation Station - Seashell Painting
DESCRIPTION:Paint inside or outside seashells to create jewelry dishes or pretty art pieces!Creation Station free drop-in art classes are for all ages and abilities. You are welcome to bring food and beverages to enjoy. This series of classes is generously funded by the United Way of North Central Ohio.
URL:https://crawfordcountyartcenter.com/event/creation-station-seashell-painting/
LOCATION:117 N Sandusky Ave\, Bucyrus\, OH
CATEGORIES:Classes
ATTACH;FMTTYPE=image/jpeg:https://crawfordcountyartcenter.com/wp-content/uploads/2026/04/38494_image_672691288_1364893805676334_7054782888588712907_n.jpg
END:VEVENT
BEGIN:VEVENT
DTSTART;TZID=America/Kentucky/Louisville:20260715T130000
DTEND;TZID=America/Kentucky/Louisville:20260715T150000
DTSTAMP:20260419T201929
CREATED:20260419T230441Z
LAST-MODIFIED:20260419T230441Z
UID:38496-1784120400-1784127600@crawfordcountyartcenter.com
SUMMARY:Junk Journaling
DESCRIPTION:Join in the CLUB! Whether you are a seasoned scrapbook/junk journaler or brand new\, artists Rebecca and Victor invite you to come on in and try it out. All supplies are provided\, but we recommend you bring items of your own from home as well!Junk Journaling is creating a spread of things new and old\, typically taking “junk” items and creating art out of them instead of tossing them in the landfill.This class is recommended ages 12+ but not required\, and is free for all! We encourage donations to keep the lights on.
URL:https://crawfordcountyartcenter.com/event/junk-journaling-10/
LOCATION:117 N Sandusky Ave\, Bucyrus\, OH
CATEGORIES:Classes
ATTACH;FMTTYPE=image/jpeg:https://crawfordcountyartcenter.com/wp-content/uploads/2026/04/38496_image_677846231_1364901089008939_98680836212583207_n.jpg
END:VEVENT
BEGIN:VEVENT
DTSTART;TZID=America/Kentucky/Louisville:20260717T180000
DTEND;TZID=America/Kentucky/Louisville:20260717T200000
DTSTAMP:20260419T201929
CREATED:20260419T230444Z
LAST-MODIFIED:20260419T230444Z
UID:38498-1784311200-1784318400@crawfordcountyartcenter.com
SUMMARY:Memorial Making Grief Class
DESCRIPTION:Everyone has lost someone dear to them. Whether it was recent or years ago\, a pet\, a sibling\, or someone you once knew\, come in to the Art Center for a safe space to grieve. This monthly class will focus on healing\, on not letting go of the grief but celebrating the life that they had and the impact they made on the lives around them.This month’s class is Forget Me Not Painting. Paint a beautiful picture of forget me not flowers\, along with any other flowers – such as their birth flower!This class is for all ages and abilities\, and is free to attend. Donations are appreciated.
URL:https://crawfordcountyartcenter.com/event/memorial-making-grief-class-4/
LOCATION:117 N Sandusky Ave\, Bucyrus\, OH
CATEGORIES:Classes
ATTACH;FMTTYPE=image/jpeg:https://crawfordcountyartcenter.com/wp-content/uploads/2026/04/38498_image_674183351_1364900139009034_6899498377090141448_n.jpg
END:VEVENT
BEGIN:VEVENT
DTSTART;TZID=America/Kentucky/Louisville:20260719T140000
DTEND;TZID=America/Kentucky/Louisville:20260719T180000
DTSTAMP:20260419T201929
CREATED:20260419T230446Z
LAST-MODIFIED:20260419T230446Z
UID:38500-1784469600-1784484000@crawfordcountyartcenter.com
SUMMARY:Creation Station - Jellyfish Painting
DESCRIPTION:Using watercolor\, we will create beautiful artworks of jellyfish! 🪼Creation Station free drop-in art classes are for all ages and abilities. You are welcome to bring food and beverages to enjoy. This series of classes is generously funded by the United Way of North Central Ohio.
URL:https://crawfordcountyartcenter.com/event/creation-station-jellyfish-painting/
LOCATION:117 N Sandusky Ave\, Bucyrus\, OH
CATEGORIES:Classes
ATTACH;FMTTYPE=image/jpeg:https://crawfordcountyartcenter.com/wp-content/uploads/2026/04/38500_image_674114273_1364886545677060_833929989324651255_n.jpg
END:VEVENT
BEGIN:VEVENT
DTSTART;TZID=America/Kentucky/Louisville:20260722T130000
DTEND;TZID=America/Kentucky/Louisville:20260722T150000
DTSTAMP:20260419T201929
CREATED:20260419T230449Z
LAST-MODIFIED:20260419T230449Z
UID:38502-1784725200-1784732400@crawfordcountyartcenter.com
SUMMARY:Junk Journaling
DESCRIPTION:Join in the CLUB! Whether you are a seasoned scrapbook/junk journaler or brand new\, artists Rebecca and Victor invite you to come on in and try it out. All supplies are provided\, but we recommend you bring items of your own from home as well!Junk Journaling is creating a spread of things new and old\, typically taking “junk” items and creating art out of them instead of tossing them in the landfill.This class is recommended ages 12+ but not required\, and is free for all! We encourage donations to keep the lights on.
URL:https://crawfordcountyartcenter.com/event/junk-journaling-11/
LOCATION:117 N Sandusky Ave\, Bucyrus\, OH
CATEGORIES:Classes
ATTACH;FMTTYPE=image/jpeg:https://crawfordcountyartcenter.com/wp-content/uploads/2026/04/38502_image_677922583_1364892742343107_9157001593998075197_n.jpg
END:VEVENT
BEGIN:VEVENT
DTSTART;TZID=America/Kentucky/Louisville:20260726T140000
DTEND;TZID=America/Kentucky/Louisville:20260726T180000
DTSTAMP:20260419T201929
CREATED:20260419T230451Z
LAST-MODIFIED:20260419T230451Z
UID:38504-1785074400-1785088800@crawfordcountyartcenter.com
SUMMARY:Creation Station - CD Painting
DESCRIPTION:In this class\, we will be painting using CDs as our canvases! You can create mandelas\, landscapes\, abstract works – anything you can think of!Creation Station free drop-in art classes are for all ages and abilities. You are welcome to bring food and beverages to enjoy. This series of classes is generously funded by the United Way of North Central Ohio.
URL:https://crawfordcountyartcenter.com/event/creation-station-cd-painting/
LOCATION:117 N Sandusky Ave\, Bucyrus\, OH
CATEGORIES:Classes
ATTACH;FMTTYPE=image/jpeg:https://crawfordcountyartcenter.com/wp-content/uploads/2026/04/38504_image_674147466_1364887769010271_3378804951366703040_n.jpg
END:VEVENT
BEGIN:VEVENT
DTSTART;TZID=America/Kentucky/Louisville:20260729T130000
DTEND;TZID=America/Kentucky/Louisville:20260729T150000
DTSTAMP:20260419T201929
CREATED:20260419T230453Z
LAST-MODIFIED:20260419T230453Z
UID:38506-1785330000-1785337200@crawfordcountyartcenter.com
SUMMARY:Watercolor Painting
DESCRIPTION:Join us for a Free Watercolor Painting class the last Wednesday of each month from 1-3 pm! This class is hosted by Barb Hughey. No registration required\, and ages 12+ are recommended. Donations are appreciated.
URL:https://crawfordcountyartcenter.com/event/watercolor-painting-5/
LOCATION:117 N Sandusky Ave\, Bucyrus\, OH
CATEGORIES:Classes
ATTACH;FMTTYPE=image/jpeg:https://crawfordcountyartcenter.com/wp-content/uploads/2026/04/38506_image_673119010_1364888469010201_6966232609614412183_n.jpg
END:VEVENT
END:VCALENDAR