BEGIN:VCALENDAR
VERSION:2.0
PRODID:-//Crawford County Art Center - ECPv6.15.20//NONSGML v1.0//EN
CALSCALE:GREGORIAN
METHOD:PUBLISH
X-WR-CALNAME:Crawford County Art Center
X-ORIGINAL-URL:https://crawfordcountyartcenter.com
X-WR-CALDESC:Events for Crawford County Art Center
REFRESH-INTERVAL;VALUE=DURATION:PT1H
X-Robots-Tag:noindex
X-PUBLISHED-TTL:PT1H
BEGIN:VTIMEZONE
TZID:America/Kentucky/Louisville
BEGIN:DAYLIGHT
TZOFFSETFROM:-0500
TZOFFSETTO:-0400
TZNAME:EDT
DTSTART:20250309T070000
END:DAYLIGHT
BEGIN:STANDARD
TZOFFSETFROM:-0400
TZOFFSETTO:-0500
TZNAME:EST
DTSTART:20251102T060000
END:STANDARD
BEGIN:DAYLIGHT
TZOFFSETFROM:-0500
TZOFFSETTO:-0400
TZNAME:EDT
DTSTART:20260308T070000
END:DAYLIGHT
BEGIN:STANDARD
TZOFFSETFROM:-0400
TZOFFSETTO:-0500
TZNAME:EST
DTSTART:20261101T060000
END:STANDARD
BEGIN:DAYLIGHT
TZOFFSETFROM:-0500
TZOFFSETTO:-0400
TZNAME:EDT
DTSTART:20270314T070000
END:DAYLIGHT
BEGIN:STANDARD
TZOFFSETFROM:-0400
TZOFFSETTO:-0500
TZNAME:EST
DTSTART:20271107T060000
END:STANDARD
END:VTIMEZONE
BEGIN:VEVENT
DTSTART;TZID=America/Kentucky/Louisville:20260715T130000
DTEND;TZID=America/Kentucky/Louisville:20260715T150000
DTSTAMP:20260420T000113
CREATED:20260419T230441Z
LAST-MODIFIED:20260419T230441Z
UID:38496-1784120400-1784127600@crawfordcountyartcenter.com
SUMMARY:Junk Journaling
DESCRIPTION:Join in the CLUB! Whether you are a seasoned scrapbook/junk journaler or brand new\, artists Rebecca and Victor invite you to come on in and try it out. All supplies are provided\, but we recommend you bring items of your own from home as well!Junk Journaling is creating a spread of things new and old\, typically taking “junk” items and creating art out of them instead of tossing them in the landfill.This class is recommended ages 12+ but not required\, and is free for all! We encourage donations to keep the lights on.
URL:https://crawfordcountyartcenter.com/event/junk-journaling-10/
LOCATION:117 N Sandusky Ave\, Bucyrus\, OH
CATEGORIES:Classes
ATTACH;FMTTYPE=image/jpeg:https://crawfordcountyartcenter.com/wp-content/uploads/2026/04/38496_image_677846231_1364901089008939_98680836212583207_n.jpg
END:VEVENT
BEGIN:VEVENT
DTSTART;TZID=America/Kentucky/Louisville:20260717T180000
DTEND;TZID=America/Kentucky/Louisville:20260717T200000
DTSTAMP:20260420T000113
CREATED:20260419T230444Z
LAST-MODIFIED:20260419T230444Z
UID:38498-1784311200-1784318400@crawfordcountyartcenter.com
SUMMARY:Memorial Making Grief Class
DESCRIPTION:Everyone has lost someone dear to them. Whether it was recent or years ago\, a pet\, a sibling\, or someone you once knew\, come in to the Art Center for a safe space to grieve. This monthly class will focus on healing\, on not letting go of the grief but celebrating the life that they had and the impact they made on the lives around them.This month’s class is Forget Me Not Painting. Paint a beautiful picture of forget me not flowers\, along with any other flowers – such as their birth flower!This class is for all ages and abilities\, and is free to attend. Donations are appreciated.
URL:https://crawfordcountyartcenter.com/event/memorial-making-grief-class-4/
LOCATION:117 N Sandusky Ave\, Bucyrus\, OH
CATEGORIES:Classes
ATTACH;FMTTYPE=image/jpeg:https://crawfordcountyartcenter.com/wp-content/uploads/2026/04/38498_image_674183351_1364900139009034_6899498377090141448_n.jpg
END:VEVENT
BEGIN:VEVENT
DTSTART;TZID=America/Kentucky/Louisville:20260719T140000
DTEND;TZID=America/Kentucky/Louisville:20260719T180000
DTSTAMP:20260420T000113
CREATED:20260419T230446Z
LAST-MODIFIED:20260419T230446Z
UID:38500-1784469600-1784484000@crawfordcountyartcenter.com
SUMMARY:Creation Station - Jellyfish Painting
DESCRIPTION:Using watercolor\, we will create beautiful artworks of jellyfish! 🪼Creation Station free drop-in art classes are for all ages and abilities. You are welcome to bring food and beverages to enjoy. This series of classes is generously funded by the United Way of North Central Ohio.
URL:https://crawfordcountyartcenter.com/event/creation-station-jellyfish-painting/
LOCATION:117 N Sandusky Ave\, Bucyrus\, OH
CATEGORIES:Classes
ATTACH;FMTTYPE=image/jpeg:https://crawfordcountyartcenter.com/wp-content/uploads/2026/04/38500_image_674114273_1364886545677060_833929989324651255_n.jpg
END:VEVENT
BEGIN:VEVENT
DTSTART;TZID=America/Kentucky/Louisville:20260722T130000
DTEND;TZID=America/Kentucky/Louisville:20260722T150000
DTSTAMP:20260420T000113
CREATED:20260419T230449Z
LAST-MODIFIED:20260419T230449Z
UID:38502-1784725200-1784732400@crawfordcountyartcenter.com
SUMMARY:Junk Journaling
DESCRIPTION:Join in the CLUB! Whether you are a seasoned scrapbook/junk journaler or brand new\, artists Rebecca and Victor invite you to come on in and try it out. All supplies are provided\, but we recommend you bring items of your own from home as well!Junk Journaling is creating a spread of things new and old\, typically taking “junk” items and creating art out of them instead of tossing them in the landfill.This class is recommended ages 12+ but not required\, and is free for all! We encourage donations to keep the lights on.
URL:https://crawfordcountyartcenter.com/event/junk-journaling-11/
LOCATION:117 N Sandusky Ave\, Bucyrus\, OH
CATEGORIES:Classes
ATTACH;FMTTYPE=image/jpeg:https://crawfordcountyartcenter.com/wp-content/uploads/2026/04/38502_image_677922583_1364892742343107_9157001593998075197_n.jpg
END:VEVENT
BEGIN:VEVENT
DTSTART;TZID=America/Kentucky/Louisville:20260726T140000
DTEND;TZID=America/Kentucky/Louisville:20260726T180000
DTSTAMP:20260420T000113
CREATED:20260419T230451Z
LAST-MODIFIED:20260419T230451Z
UID:38504-1785074400-1785088800@crawfordcountyartcenter.com
SUMMARY:Creation Station - CD Painting
DESCRIPTION:In this class\, we will be painting using CDs as our canvases! You can create mandelas\, landscapes\, abstract works – anything you can think of!Creation Station free drop-in art classes are for all ages and abilities. You are welcome to bring food and beverages to enjoy. This series of classes is generously funded by the United Way of North Central Ohio.
URL:https://crawfordcountyartcenter.com/event/creation-station-cd-painting/
LOCATION:117 N Sandusky Ave\, Bucyrus\, OH
CATEGORIES:Classes
ATTACH;FMTTYPE=image/jpeg:https://crawfordcountyartcenter.com/wp-content/uploads/2026/04/38504_image_674147466_1364887769010271_3378804951366703040_n.jpg
END:VEVENT
BEGIN:VEVENT
DTSTART;TZID=America/Kentucky/Louisville:20260729T130000
DTEND;TZID=America/Kentucky/Louisville:20260729T150000
DTSTAMP:20260420T000113
CREATED:20260419T230453Z
LAST-MODIFIED:20260419T230453Z
UID:38506-1785330000-1785337200@crawfordcountyartcenter.com
SUMMARY:Watercolor Painting
DESCRIPTION:Join us for a Free Watercolor Painting class the last Wednesday of each month from 1-3 pm! This class is hosted by Barb Hughey. No registration required\, and ages 12+ are recommended. Donations are appreciated.
URL:https://crawfordcountyartcenter.com/event/watercolor-painting-5/
LOCATION:117 N Sandusky Ave\, Bucyrus\, OH
CATEGORIES:Classes
ATTACH;FMTTYPE=image/jpeg:https://crawfordcountyartcenter.com/wp-content/uploads/2026/04/38506_image_673119010_1364888469010201_6966232609614412183_n.jpg
END:VEVENT
END:VCALENDAR